BEGIN:VCALENDAR
VERSION:2.0
PRODID:-//Danish-Thai Chamber Of Commerce - ECPv6.15.18//NONSGML v1.0//EN
CALSCALE:GREGORIAN
METHOD:PUBLISH
X-WR-CALNAME:Danish-Thai Chamber Of Commerce
X-ORIGINAL-URL:https://dancham.or.th
X-WR-CALDESC:Events for Danish-Thai Chamber Of Commerce
REFRESH-INTERVAL;VALUE=DURATION:PT1H
X-Robots-Tag:noindex
X-PUBLISHED-TTL:PT1H
BEGIN:VTIMEZONE
TZID:Asia/Bangkok
BEGIN:STANDARD
TZOFFSETFROM:+0700
TZOFFSETTO:+0700
TZNAME:+07
DTSTART:20240101T000000
END:STANDARD
END:VTIMEZONE
BEGIN:VEVENT
DTSTART;TZID=Asia/Bangkok:20250327T180000
DTEND;TZID=Asia/Bangkok:20250327T210000
DTSTAMP:20260421T072755
CREATED:20250224T043334Z
LAST-MODIFIED:20250224T043334Z
UID:27725-1743098400-1743109200@dancham.or.th
SUMMARY:Co-branded: CanCham's Canuck Connections Networking
DESCRIPTION:🙌Join us for CanCham’s Multi-Chamber Canuck Connections Networking event at Rembrant Bangkok Hotel on Thursday\, March 27\, 2025\, from 18:00 to 21:00. This event is open to both CanCham members and non-members.🌐 \n🍝Savor mouthwatering appetizers with a pasta station\, perfectly paired with free- flow soft drinks\, beer\, and wine. Don’t miss out on your chance to win a fantastic lucky draw prize! Just drop your business card into the bowl and you could be one of our lucky winners!!💳🎟️ \n📌This event is an opportunity to enhance your professional connections\, fostering relationships with peers and friends in the CanCham community. \nCheers to happy networking! 🍷 \nEvent Details \nDate: Thursday\, March 27\, 2025 \nTime: 18:00 – 21:00 (Registration opens at 18:00) \nVenue: Rembrandt Bangkok Hotel (MAP) Private Red Pepper \nDresscode: Smart/Business Casual \nFor more information and registration.
URL:https://dancham.or.th/event/co-branded-canchams-canuck-connections-networking/
LOCATION:Rembrandt hotel and towers Bangkok\, 19 Sukhumvit soi 18 Sukumvit Road\,Klong Toei\, Bangkok 10110< Thailand\, Bangkok\, Bangkok 10110\, 10110\, Thailand
CATEGORIES:Cancham Event
ATTACH;FMTTYPE=image/png:https://dancham.or.th/wp-content/uploads/2025/02/CCN-March-27-2025-Banner.png
END:VEVENT
END:VCALENDAR