BEGIN:VCALENDAR
VERSION:2.0
PRODID:-//Danish-Thai Chamber Of Commerce - ECPv6.15.18//NONSGML v1.0//EN
CALSCALE:GREGORIAN
METHOD:PUBLISH
X-WR-CALNAME:Danish-Thai Chamber Of Commerce
X-ORIGINAL-URL:https://dancham.or.th
X-WR-CALDESC:Events for Danish-Thai Chamber Of Commerce
REFRESH-INTERVAL;VALUE=DURATION:PT1H
X-Robots-Tag:noindex
X-PUBLISHED-TTL:PT1H
BEGIN:VTIMEZONE
TZID:Asia/Bangkok
BEGIN:STANDARD
TZOFFSETFROM:+0700
TZOFFSETTO:+0700
TZNAME:+07
DTSTART:20250101T000000
END:STANDARD
END:VTIMEZONE
BEGIN:VEVENT
DTSTART;TZID=Asia/Bangkok:20260310T150000
DTEND;TZID=Asia/Bangkok:20260310T160000
DTSTAMP:20260422T023043
CREATED:20260217T071909Z
LAST-MODIFIED:20260223T041742Z
UID:28880-1773154800-1773158400@dancham.or.th
SUMMARY:Opportunities in Thailand: Investment Incentives and the Long-Term Resident Visa for Nordic Business
DESCRIPTION:The DTCC has received an invitation from the BOI Nordic Office in Stockholm to invite its members to join an upcoming webinar organized by the Thailand Board of Investment (BOI)\, Nordic Office. The session will highlight Thailand’s Long-Term Resident (LTR) Visa and opportunities for individuals interested in living\, working\, and building a long-term presence in Thailand. The webinar will also provide insights into Thailand’s investment environment\, BOI support measures\, and SUBCON Thailand—ASEAN’s leading industrial subcontracting exhibition\, featuring presentations from BOI representatives and testimonials from companies with experience in Thailand. \nMore details on the event can be read here. \nAgenda (CET) \n08.50 Webinar room is opened for registered participants to join. \n09.00 Commencement of the Webinar and Introduction of Panellists (Moderator)\nMr. Mats Gerlam\, Investment Promotion Consultant\, BOI \n09.02 Opening Remarks\nAmbassador Arunrung Phothong Humphreys \, The Royal Thai Embassy\, Stockholm (TBC) \n09.07 Why Thailand? An Overview of Investment Incentives\nDr. Sawitree Suwannasang\, Nordic Director\, BOI Stockholm Office \n09.20 Overview of the LTR Visa: Benefits & Application Process\nMs. Sanlaya Aksharamat – Head of the Long-Term Resident (LTR) Visa Unit\, Thailand Board of Investment \n09.35 SUBCON Thailand: opportunities for networking and sourcing\nDr. Sawitree Suwannasanng\, Nordic Director \n09.40 Case study 1 – Experience of doing business in Thailand\nMr/s x \n09.49 Case study 1 – Experience of doing business in Thailand\nMr/s x \n09.58 Live Q&A and Closing remarks\nMr. Mats Gerlam\, Investment Promotion Consultant\, BOI \n10.00 End of webinar session \nRegistration can be done via this link. \nA link to the webinar will be sent to you after the registration is completed. \nOne–to-one meetings are available. Pre-arrangement is required. Please contact BOI Stockholm office via stockholm@boi.go.th
URL:https://dancham.or.th/event/opportunities-in-thailand-investment-incentives-and-the-long-term-resident-visa-for-nordic-business/
LOCATION:ZOOM Web Conference\, Thailand
CATEGORIES:Nordic Event,Other Organisations
ATTACH;FMTTYPE=image/jpeg:https://dancham.or.th/wp-content/uploads/2026/02/boi2024.jpg
END:VEVENT
BEGIN:VEVENT
DTSTART;TZID=Asia/Bangkok:20260331T110000
DTEND;TZID=Asia/Bangkok:20260331T130000
DTSTAMP:20260422T023043
CREATED:20260303T033009Z
LAST-MODIFIED:20260303T033451Z
UID:29056-1774954800-1774962000@dancham.or.th
SUMMARY:EABC Luncheon: Welcome and Dialogue with the EU Ambassador to Thailand
DESCRIPTION:Dear members\, \nThe Danish-Thai Chamber of Commerce is pleased to share this invitation for an Exclusive Luncheon with New Ambassador.\nThe European Association for Business and Commerce (EABC) is honoured to host the EABC Luncheon: Welcome and Dialogue with the EU Ambassador to Thailand. This exclusive luncheon marks the official welcome of our new EU Ambassador\, H.E. Mrs. Luisa Ragher\, Ambassador Extraordinary and Plenipotentiary of the European Union (EU) to Thailand. This event offers the special opportunity for our valued guests to extend their greetings and engage in meaningful conversations with the representatives of all European Union nations. \nEvent details: \nDate: Tuesday\, 31 March 2026 \nTime: 11.00-13.00 (Registration starts 11.00 – event starts 12.00) \nVenue: Conrad Bangkok \nTicket: \n\nMember: 1\,800 THB\nNon-member: 2\,300 THB\n\nThe ticket includes 3 courses of Western Set Menu \nLimited seats on a first-come\, first-served basis \nSave your seat and don’t miss this exclusive event. We look forward to welcoming you. \nProvisional Agenda
URL:https://dancham.or.th/event/eabc-luncheon-welcome-and-dialogue-with-the-eu-ambassador-to-thailand/
LOCATION:Conrad Bangkok\, 87/3 Witthayu Rd\, Lumphini\, Pathum Wan\,\, Bangkok\, 10330\, Thailand
CATEGORIES:Nordic Event,Other Organisations
ATTACH;FMTTYPE=image/png:https://dancham.or.th/wp-content/uploads/2026/03/poster-ver-1.png
END:VEVENT
END:VCALENDAR