BEGIN:VCALENDAR
VERSION:2.0
PRODID:-//Danish-Thai Chamber Of Commerce - ECPv6.15.18//NONSGML v1.0//EN
CALSCALE:GREGORIAN
METHOD:PUBLISH
X-ORIGINAL-URL:https://dancham.or.th
X-WR-CALDESC:Events for Danish-Thai Chamber Of Commerce
REFRESH-INTERVAL;VALUE=DURATION:PT1H
X-Robots-Tag:noindex
X-PUBLISHED-TTL:PT1H
BEGIN:VTIMEZONE
TZID:Asia/Bangkok
BEGIN:STANDARD
TZOFFSETFROM:+0700
TZOFFSETTO:+0700
TZNAME:+07
DTSTART:20250101T000000
END:STANDARD
END:VTIMEZONE
BEGIN:VEVENT
DTSTART;TZID=Asia/Bangkok:20260109T080000
DTEND;TZID=Asia/Bangkok:20260111T130000
DTSTAMP:20260422T101634
CREATED:20260106T043152Z
LAST-MODIFIED:20260106T043230Z
UID:28641-1767945600-1768136400@dancham.or.th
SUMMARY:DTCC Annual Business Adventure to Khao Yai National Park (Dairy Edition)
DESCRIPTION:
URL:https://dancham.or.th/event/dtcc-annual-business-adventure-to-khao-yai-national-park-dairy-edition/
LOCATION:Khao Yai National park
CATEGORIES:Dancham Event
ATTACH;FMTTYPE=image/jpeg:https://dancham.or.th/wp-content/uploads/2026/01/forest-elephant2closed.jpg
END:VEVENT
BEGIN:VEVENT
DTSTART;TZID=Asia/Bangkok:20260122T180000
DTEND;TZID=Asia/Bangkok:20260123T200000
DTSTAMP:20260422T101634
CREATED:20251013T082908Z
LAST-MODIFIED:20260121T103709Z
UID:28437-1769104800-1769198400@dancham.or.th
SUMMARY:DTCC Factory Visits to Danish Jewelry Production in Chiang Mai
DESCRIPTION:Dear Members and Friends of the Chamber\, \nOn Friday 23 January 2026 the Danish owned jewellery factories and workshops have kindly opened their facilities for a visit by the DTCC members. All levels of production can be viewed from the world largest jewellery producer Pandora Production and at the same time the most environment friendly factory facility. \nLater we will visit the world finest manufacturer of high-end Gold\, Silver Jewellery solely by Georg Jensen. In addition to jewellery\, Georg Jensen Thailand also manufactures Seasonal items for the Georg Jensen brand. In the afternoon we will visit the small-scale workshop where every item is made by order only\, FP Production Co. Ltd. \nThe chamber has reserved rooms for two nights for the participants at a hotel located next to Mae Ping River and in walking distance to the Night Bazar Market. The participants will be informed of the hotel\, as this will be the designated meeting point for the van kindly arranged for by Pandora for transport Friday 23 January. \nThe program can be downloaded here. \nThe participation fee for DTCC members is 2\,300 THB and for non-members 3\,100 THB. This includes the transport from the designated hotel to all of the factories and back to the hotel\, kindly facilitated by Pandora Productions in Lamphun. The chamber will provide lunch at Restaurant Norden in Chiang Mai. The chamber will contact the participants regarding alternative accommodation if needed. \nThe participation fee does not include the following: \n\nTransport to and from Chiang Mai (from Bangkok and elsewhere) and the hotel cost.\nFood and drinks except for lunch on Friday the 23 January.\n\nOn Saturday 24 January we have arranged a visit in the morning for those interested to a local jewelry workshop\, Boggy & Troll\, managed by our DTCC member Maiken Hjulgaard. \nThe maximum number of participants has been set to 15 persons. Members who have registered first will have first rights. Please register with the chamber office by the button below.
URL:https://dancham.or.th/event/dtcc-factory-visits-to-danish-jewelry-production-in-chiang-mai/
CATEGORIES:Company Visit,Dancham Event
ATTACH;FMTTYPE=image/jpeg:https://dancham.or.th/wp-content/uploads/2025/12/Jewelry-visit-CM2026V1.jpg
END:VEVENT
BEGIN:VEVENT
DTSTART;TZID=Asia/Bangkok:20260124T160000
DTEND;TZID=Asia/Bangkok:20260124T200000
DTSTAMP:20260422T101634
CREATED:20260116T074159Z
LAST-MODIFIED:20260116T074748Z
UID:28696-1769270400-1769284800@dancham.or.th
SUMMARY:Co-Branded Event\, CITY WALK 2026
DESCRIPTION:Dear Members\, \nWe would like to invite DTCC members to join the CITY WALK 2026\, organized by Fin-Thai Chamber. CITY WALK 2026 is a great opportunity to enjoy an active and engaging experience while connecting with fellow members. All event details\, including date\, time\, venue\, and registration information\, are provided in the attached poster.
URL:https://dancham.or.th/event/co-branded-event-city-walk-2026/
LOCATION:Benjakitti Park\, Ratchadaphisek Road\, Khlong Toei\, Bangkok\, 10110\, Thailand
CATEGORIES:Co-branded,Nordic Event,TFCC Event
ATTACH;FMTTYPE=image/jpeg:https://dancham.or.th/wp-content/uploads/2026/01/Fin-Cham-City-Walk-crop.jpg
END:VEVENT
END:VCALENDAR