BEGIN:VCALENDAR
VERSION:2.0
PRODID:-//Danish-Thai Chamber Of Commerce - ECPv6.15.18//NONSGML v1.0//EN
CALSCALE:GREGORIAN
METHOD:PUBLISH
X-WR-CALNAME:Danish-Thai Chamber Of Commerce
X-ORIGINAL-URL:https://dancham.or.th
X-WR-CALDESC:Events for Danish-Thai Chamber Of Commerce
REFRESH-INTERVAL;VALUE=DURATION:PT1H
X-Robots-Tag:noindex
X-PUBLISHED-TTL:PT1H
BEGIN:VTIMEZONE
TZID:Asia/Bangkok
BEGIN:STANDARD
TZOFFSETFROM:+0700
TZOFFSETTO:+0700
TZNAME:+07
DTSTART:20210101T000000
END:STANDARD
END:VTIMEZONE
BEGIN:VEVENT
DTSTART;TZID=Asia/Bangkok:20221007T180000
DTEND;TZID=Asia/Bangkok:20221007T220000
DTSTAMP:20260424T112810
CREATED:20220909T020709Z
LAST-MODIFIED:20221012T091303Z
UID:24884-1665165600-1665180000@dancham.or.th
SUMMARY:Join DTCC in Celebrating the True Discovery of America!
DESCRIPTION:Celebrating Leif Eriksens Day & Hans’ Island\nEvent Details \nDate: Friday 7 October 2022 \nTime: 18.00 – 22.00 \nVenue: Boathouse\, Jomtien Beach \nCost: THB 600 for Chamber members and co-branding chambers. \nTHB 950 for non-members.\nPrice includes Viking food\, soft drinks\, wine and beer. \nMenu \nFried pork\, with potatoes and parsley sauce (Danish National Dish) \nGround beef patties with potatoes & gravy \n“Biksemad” – Fried potatoes with assorted meats served with egg \nBeverages \nBeer\, House wine\, Soft drinks\, Water & Coffee \n(Food and drinks will be served Ad Libitum from 18.00-20.00) \n*Pre-registration & pre-payment are required. No payment at the door. No walk-ins please*   \nHistorical Insight\nThe Discovery of North America (by Europeans) \nFor more than 1000 years ago a small group of Vikings landed on the rocky shores of New Foundland in North America. The chief of the group Leif Eriksen\, was the son of Erik Redbeard born in Norway and later moved to Iceland. \nIn USA they are usually celebrating this event on the 9 October as a holiday. In the Nordics it is rare to observe this occasion. As his birthplace Greenland is a part of the Danish Kingdom and the strait between Greenland and Canada is of not only high strategic interest but also of cultural and historical interest. Inspired by the latest Netflix series Viking Valhalla which are closer to the historical facts\, we feel this could be a great occasion to celebrate here in Thailand at the Eastern Seaboard at the Danish restaurant Jomtien Boathouse. We plan to have this as an annual event. \nThe happy ending of the most peaceful border dispute in the World between Denmark and Canada; sets an example for the other border conflicts. \nBoth Canada and Denmark cast the “historic” agreement as an example of how border disputes can be resolved peacefully\, without warfare or bitter legal wrangling\, at a time when the rules-based international order is under strain — a reference in part to Russia’s invasion of Ukraine. \nFor some five decades\, Canada and Denmark have squabbled — mostly\, but not always\, politely — over the not-very-exciting Hans Island\, a 0.5-square-mile mass in the Kennedy Channel of the Nares Strait that’s home to neither vegetation nor wildlife. \nThe 14 June 2022 agreement ultimately resolved the dispute in a rather equitable manner. By this agreement Hans Island will be divided along a natural ridge with roughly 60% of the area being allocated to Denmark and the remainder to Canada. \nAfter signing the agreement to applause\, alcohol and notes were exchanged for the last time.
URL:https://dancham.or.th/event/join-dtcc-in-celebrating-the-true-discovery-of-america/
LOCATION:Bryghuset\, Jomtien Beach\, Bryghuset Jomtien Soi White House\, Muang Pattaya\, Chonburi\, 20150\, Thailand
CATEGORIES:Dancham Event
ATTACH;FMTTYPE=image/jpeg:https://dancham.or.th/wp-content/uploads/2022/09/viking-ship_expanded-2-2.jpg
ORGANIZER;CN="DanCham":MAILTO:contact@dancham.or.th
END:VEVENT
END:VCALENDAR