BEGIN:VCALENDAR
VERSION:2.0
PRODID:-//Danish-Thai Chamber Of Commerce - ECPv6.15.18//NONSGML v1.0//EN
CALSCALE:GREGORIAN
METHOD:PUBLISH
X-ORIGINAL-URL:https://dancham.or.th
X-WR-CALDESC:Events for Danish-Thai Chamber Of Commerce
REFRESH-INTERVAL;VALUE=DURATION:PT1H
X-Robots-Tag:noindex
X-PUBLISHED-TTL:PT1H
BEGIN:VTIMEZONE
TZID:Asia/Bangkok
BEGIN:STANDARD
TZOFFSETFROM:+0700
TZOFFSETTO:+0700
TZNAME:+07
DTSTART:20240101T000000
END:STANDARD
END:VTIMEZONE
BEGIN:VEVENT
DTSTART;TZID=Asia/Bangkok:20250222T173000
DTEND;TZID=Asia/Bangkok:20250222T203000
DTSTAMP:20260422T173151
CREATED:20250127T082116Z
LAST-MODIFIED:20250221T080840Z
UID:27350-1740245400-1740256200@dancham.or.th
SUMMARY:Join DTCC in Celebrating more than 1000 Years of Trade in the North Atlantic
DESCRIPTION:At this annual event there will be a 40 min. presentation on the exploration of trade and discoveries taking the latest scientific discoveries (2022 – 2025) into account. The presentation will underline how important trade can be in driving the exploration of new territories and business niches.\n\nPrecisely in the year 1021 new research shows that Leif Eriksen and his crew stepped on American soil as the first Europeans. He built his basecamp on New Foundland and explored further south maybe as far as present-day New York new evidence suggests.\n\nAt this event there will a full Viking Buffet along with beer and other drinks for the celebration of the Norse presence till this day in the North Atlantic Ocean.Date: 22 February 2025. \nTime: 17:30 – 20:30. Registration starts at 17:30 at the entrance. \nVenue: Mermaid’s Beach Resort\, Soi Jomtien 7\, Jomtien Beach\, Thailand. \nAdmission Fee: Members 600 THB and Non-Members: 900 THB. \n\nBank transfer is available to Bangkok Bank to account no. 123-318207-8 and email assistant@dancham.or.th to verify for a receipt.\n\nCancellation policy: \n\nAdvance payment is required to confirm your registration and if payment not made 48 hours before event\, your place will be passed on to the waiting list. No walk-ins.\nCancellations received less than 24 hours (1 day) and no-shows are NOT able to receive neither a refund nor credit.\nPayment is required at the time of booking.\n\nRegistration:  \n\n 
URL:https://dancham.or.th/event/join-dtcc-in-celebrating-more-than-1000-years-of-trade-in-the-north-atlantic-2/
LOCATION:Mermaid’s Beach Resort Jomtien\, 75/101 - 102 Moo 12 Soi 7 Jomtien Bach Rd\, Nongprue\, Pattaya\, Chonburi\, Jomtien Beach\,\, Thailand
CATEGORIES:Dancham Event
ATTACH;FMTTYPE=image/jpeg:https://dancham.or.th/wp-content/uploads/2025/02/vikinghandel-Postponed.jpg
ORGANIZER;CN="DanCham":MAILTO:contact@dancham.or.th
END:VEVENT
END:VCALENDAR